BEGIN:VCALENDAR
VERSION:2.0
PRODID:-//Life Programs - ECPv6.0.3.1//NONSGML v1.0//EN
CALSCALE:GREGORIAN
METHOD:PUBLISH
X-WR-CALNAME:Life Programs
X-ORIGINAL-URL:https://www.lifeprograms.com
X-WR-CALDESC:Events for Life Programs
REFRESH-INTERVAL;VALUE=DURATION:PT1H
X-Robots-Tag:noindex
X-PUBLISHED-TTL:PT1H
BEGIN:VTIMEZONE
TZID:UTC
BEGIN:STANDARD
TZOFFSETFROM:+0000
TZOFFSETTO:+0000
TZNAME:UTC
DTSTART:20200101T000000
END:STANDARD
END:VTIMEZONE
BEGIN:VEVENT
DTSTART;VALUE=DATE:20200725
DTEND;VALUE=DATE:20200726
DTSTAMP:20260421T192943
CREATED:20210226T171146Z
LAST-MODIFIED:20210226T173931Z
UID:52-1595635200-1595721599@www.lifeprograms.com
SUMMARY:Releasing your Negative Emotions
DESCRIPTION:Special class taught by lineage holder\nIpsissimus Dave Lanyon \nEveryone experiences some form of negative emotions\, be it depression\, anger\, frustration\, self-doubt\, jealousy or guilt. These emotions are a drain on your energy and stand in the way of you living a happy and successful life. \nThere are times in our life when our negative emotions have more impact on us than we might care to admit. These experiences can manifest in many ways: \nDo you encounter pessimistic thoughts?\nDo you find yourself having a defeatist or cynical outlook?\nDoes anger\, sadness\, fear or frustration find its way into your daily life?\nDo feelings of guilt\, jealousy or resentment linger around your relationships?\nDo you feel stuck in an area of your life? \nThe Releasing Your Negative Emotions workshop is aimed to provide you with the tools you can use in your daily life to: \n\nDisconnect from the undesired aspects of yourself\nRelease anger and/or sadness\nEase relationship problems and situational issues\nReconnect with your positive attributes\nRelax your mind and thoughts\nLighten your outlook toward life and attitude toward others\nControl your emotions\, instead of being controlled by them\n\nYou have the ability to control your negative emotions and take charge of your life. The power is within you! The choice is yours to make the change and release your negative emotions to reveal the true you inside! \nDATE: Saturday\, July 25th \nTIME: 10 a.m. \nLOCATION: Toronto\, Canada \nPREREQUISITE: Adept Initiation ~ Empower Thyself Program \nINVESTMENT:  \nFirst 15 =  $575 CAD plus tax All spots booked! \n16- 25 = $625  CAD plus tax \nLimited seating!!! Advanced registration with full payment is required. \n**There is no audit price for this class** \nIf you are taking this class and Building Wealth on August 8th – receive $75 off Building Wealth!  \nPlease note your deposit is non-refundable/non-transferable. \nAdvanced registration is required. Please contact Modern Mystery School Administration to place your deposit: \nEMAIL: info@modernmysteryschoolint.com \nPHONE: 416-625-3470 \nTOLL-FREE: 1 (877) 275-1383 (in North America) \nBooking Cut-off date: Thursday\, July 23rd\, 2020\nNo more reservations will be taken after this date.
URL:https://www.lifeprograms.com/event/releasing-your-negative-emotions-3/
LOCATION:MMS Canada
END:VEVENT
END:VCALENDAR