BEGIN:VCALENDAR
VERSION:2.0
PRODID:-//Life Programs - ECPv6.0.3.1//NONSGML v1.0//EN
CALSCALE:GREGORIAN
METHOD:PUBLISH
X-ORIGINAL-URL:https://www.lifeprograms.com
X-WR-CALDESC:Events for Life Programs
REFRESH-INTERVAL;VALUE=DURATION:PT1H
X-Robots-Tag:noindex
X-PUBLISHED-TTL:PT1H
BEGIN:VTIMEZONE
TZID:UTC
BEGIN:STANDARD
TZOFFSETFROM:+0000
TZOFFSETTO:+0000
TZNAME:UTC
DTSTART:20200101T000000
END:STANDARD
END:VTIMEZONE
BEGIN:VEVENT
DTSTART;VALUE=DATE:20200202
DTEND;VALUE=DATE:20200203
DTSTAMP:20260422T025844
CREATED:20210226T215813Z
LAST-MODIFIED:20210226T215813Z
UID:77-1580601600-1580687999@www.lifeprograms.com
SUMMARY:Building Wealth
DESCRIPTION:START TIME: 10 a.m. \nLOCATION:  Boston\, MA \n \nWhat is real wealth? Why does the term elicit such a strong and unique response from different people? What the world has been taught about wealth has been distorted\, corrupted\, shrouded and masked. The truth is everyone deserves and can attain wealth in their lives. \nFinancial freedom isn’t about a retirement plan – it’s about releasing the negative emotional bonds that are locked up all-around money. There is enough money in the world for everyone on the planet to be millionaires. You can absolutely access this cash flow and bring more of it into your life! \n\nDo you desire to have more money in your life?\nAre you tired of struggling to get by\, or having just enough?\nDo you want to thrive instead of just survive with your financial situation?\nDo you desire to succeed in creating more wealth for you\, your family and friends?\nDo you want to know the secrets that the wealthiest individuals on the planet know??\n\nIf you answered yes to any of the above\, then this class has something important in store for you\, including some very practical ways to generate more cash. \nThe Building Wealth workshop is about learning to make better decisions that can lead to true financial wealth and freedom! \n\n\nINVESTMENT By booking order:First 10 = $395 USD  All spots booked!!11-18 = $450 USD All spots booked!!19+ = $495 USD All spots booked!! \nDEPOSIT: $40 USD \n\n*Please note your deposit is non-refundable/\nnon-transferable for any reason .\n\nNOTE: This program is being held in Boston\, MA USA but the registrations are being processed through MMS INT HQ in Toronto\, Canada.  \nAdvanced registration is required. Please contact Modern Mystery School Administration to place your deposit. \nEMAIL: info@modernmysteryschoolint.com \nPHONE: 416-625-3470 \nTOLL-FREE: 1 (877) 275-1383 (in North America)
URL:https://www.lifeprograms.com/event/building-wealth-5/
END:VEVENT
BEGIN:VEVENT
DTSTART;VALUE=DATE:20200226
DTEND;VALUE=DATE:20200227
DTSTAMP:20260422T025844
CREATED:20210226T180220Z
LAST-MODIFIED:20210226T180220Z
UID:73-1582675200-1582761599@www.lifeprograms.com
SUMMARY:Building Wealth
DESCRIPTION:START TIME: 10 a.m. \nLOCATION: Minneapolis (Bloomington)\, Minnesota \nWhat is real wealth? Why does the term elicit such a strong and unique response from different people? What the world has been taught about wealth has been distorted\, corrupted\, shrouded and masked. The truth is everyone deserves and can attain wealth in their lives. \nFinancial freedom isn’t about a retirement plan – it’s about releasing the negative emotional bonds that are locked up all-around money. There is enough money in the world for everyone on the planet to be millionaires. You can absolutely access this cash flow and bring more of it into your life! \n\nDo you desire to have more money in your life?\nAre you tired of struggling to get by\, or having just enough?\nDo you want to thrive instead of just survive with your financial situation?\nDo you desire to succeed in creating more wealth for you\, your family and friends?\nDo you want to know the secrets that the wealthiest individuals on the planet know??\n\nIf you answered yes to any of the above\, then this class has something important in store for you\, including some very practical ways to generate more cash. \nThe Building Wealth workshop is about learning to make better decisions that can lead to true financial wealth and freedom! \n\nINVESTMENT By booking order:First 10 = $395 USD  All spots booked!!11-18 = $450 USD All spots booked!!19+ = $495 USD All spots booked!! \nDEPOSIT: $40 USD \n*Please note your deposit is non-refundable/\nnon-transferable for any reason .\nNOTE: This program is being held in Minneapolis\, Minnesota\, USA but the registrations are being processed through MMS INT HQ in Toronto\, Canada.  \nAdvanced registration is required. Please contact Modern Mystery School Administration to place your deposit. \nEMAIL: info@modernmysteryschoolint.com \nPHONE: 416-625-3470 \nTOLL-FREE: 1 (877) 275-1383 (in North America)
URL:https://www.lifeprograms.com/event/building-wealth-4/
END:VEVENT
END:VCALENDAR