BEGIN:VCALENDAR
VERSION:2.0
PRODID:-//Life Programs - ECPv6.0.3.1//NONSGML v1.0//EN
CALSCALE:GREGORIAN
METHOD:PUBLISH
X-WR-CALNAME:Life Programs
X-ORIGINAL-URL:https://www.lifeprograms.com
X-WR-CALDESC:Events for Life Programs
REFRESH-INTERVAL;VALUE=DURATION:PT1H
X-Robots-Tag:noindex
X-PUBLISHED-TTL:PT1H
BEGIN:VTIMEZONE
TZID:UTC
BEGIN:STANDARD
TZOFFSETFROM:+0000
TZOFFSETTO:+0000
TZNAME:UTC
DTSTART:20210101T000000
END:STANDARD
END:VTIMEZONE
BEGIN:VEVENT
DTSTART;VALUE=DATE:20210123
DTEND;VALUE=DATE:20210124
DTSTAMP:20260421T123413
CREATED:20210226T171049Z
LAST-MODIFIED:20210226T171049Z
UID:49-1611360000-1611446399@www.lifeprograms.com
SUMMARY:Releasing Your Negative Emotions
DESCRIPTION:
URL:https://www.lifeprograms.com/event/releasing-your-negative-emotions-2/
LOCATION:Florida
END:VEVENT
END:VCALENDAR