BEGIN:VCALENDAR
VERSION:2.0
PRODID:-//Life Programs - ECPv6.0.3.1//NONSGML v1.0//EN
CALSCALE:GREGORIAN
METHOD:PUBLISH
X-WR-CALNAME:Life Programs
X-ORIGINAL-URL:https://www.lifeprograms.com
X-WR-CALDESC:Events for Life Programs
REFRESH-INTERVAL;VALUE=DURATION:PT1H
X-Robots-Tag:noindex
X-PUBLISHED-TTL:PT1H
BEGIN:VTIMEZONE
TZID:UTC
BEGIN:STANDARD
TZOFFSETFROM:+0000
TZOFFSETTO:+0000
TZNAME:UTC
DTSTART:20200101T000000
END:STANDARD
END:VTIMEZONE
BEGIN:VEVENT
DTSTART;VALUE=DATE:20200830
DTEND;VALUE=DATE:20200831
DTSTAMP:20260421T192944
CREATED:20210226T171355Z
LAST-MODIFIED:20210226T173918Z
UID:58-1598745600-1598831999@www.lifeprograms.com
SUMMARY:Building Wealth
DESCRIPTION:What is real wealth? Why does the term elicit such a strong and unique response from different people? What the world has been taught about wealth has been distorted\, corrupted\, shrouded and masked. The truth is everyone deserves and can attain wealth in their lives. \nLearn more about L.i.f.e Programs Buiding Wealth!  \nFinancial freedom isn’t about a retirement plan – it’s about releasing the negative emotional bonds that are locked up all-around money. There is enough money in the world for everyone on the planet to be millionaires. You can absolutely access this cash flow and bring more of it into your life! \n\nDo you desire to have more money in your life?\nAre you tired of struggling to get by\, or having just enough?\nDo you want to thrive instead of just survive with your financial situation?\nDo you desire to succeed in creating more wealth for you\, your family and friends?\nDo you want to know the secrets that the wealthiest individuals on the planet know??\n\nIf you answered yes to any of the above\, then this class has something important in store for you\, including some very practical ways to generate more cash. \nThe Building Wealth workshop is about learning to make better decisions that can lead to true financial wealth and freedom! \nDATE: August 30th\, 2020 \nLOCATION: Naples\, Florida \nSTART TIME: 10:00am \nPREREQUISITE: Adept Initiation ~ Empower Thyself Program \nINVESTMENT:  \nFirst 15 =  $575 USD plus tax All spots booked! \n16- 25 = $625 USD plus tax \nLimited seating!!! Advanced registration with full payment is required. \n**There is no audit price for this class** \nPlease note your deposit is non-refundable/non-transferable. \nAdvanced registration is required. Please contact the Limitless Light to register. 
URL:https://www.lifeprograms.com/event/building-wealth-3/
LOCATION:Florida
END:VEVENT
END:VCALENDAR